BEGIN:VCALENDAR
VERSION:2.0
PRODID:-//Seniorenlandhaus Mölbis - ECPv6.5.0.1//NONSGML v1.0//EN
CALSCALE:GREGORIAN
METHOD:PUBLISH
X-ORIGINAL-URL:https://www.seniorenlandhaus-moelbis.de
X-WR-CALDESC:Veranstaltungen für Seniorenlandhaus Mölbis
REFRESH-INTERVAL;VALUE=DURATION:PT1H
X-Robots-Tag:noindex
X-PUBLISHED-TTL:PT1H
BEGIN:VTIMEZONE
TZID:Europe/Berlin
BEGIN:DAYLIGHT
TZOFFSETFROM:+0100
TZOFFSETTO:+0200
TZNAME:CEST
DTSTART:20230326T010000
END:DAYLIGHT
BEGIN:STANDARD
TZOFFSETFROM:+0200
TZOFFSETTO:+0100
TZNAME:CET
DTSTART:20231029T010000
END:STANDARD
END:VTIMEZONE
BEGIN:VEVENT
DTSTART;TZID=Europe/Berlin:20230926T193000
DTEND;TZID=Europe/Berlin:20230926T203000
DTSTAMP:20260420T180011
CREATED:20230808T085710Z
LAST-MODIFIED:20230808T085710Z
UID:6810-1695756600-1695760200@www.seniorenlandhaus-moelbis.de
SUMMARY:Infoabend für Angehörige von Demenzerkrankte
DESCRIPTION:Liebe Zugehörige\, \nhiermit laden wir Sie herzlich ein zu unserer kostenfreien Kursreihe „Begleitung im Andersland“ für Zugehörige von Menschen mit Demenz. \nNeben Wissensvermittlung zu Themen wie Verlauf der Demenz\, Tipps im Umgang\, rechtliche und finanzielle Aspekte sowie Entlastungsmöglichkeiten geht es vor allem um Blickwinkel\, Haltung und Verhalten. Aufgabe und Ziel soll es sein\, die Krankheit als eine spannende Zeit anzunehmen\, welche Herausforderungen mit sich bringt und uns selbst bereichert. \nWie hoffen\, dass dieses Angebot für Sie von Interesse ist\, Sie dort viele Antworten auf Ihre Fragen finden und dass Sie die Erfahrung machen\, mit dieser doch schweren Aufgabe nicht alleingelassen zu sein. \nGehen Sie mit uns auf eine spannende Reise. Wir freuen uns auf Sie. \nAnnett Peisker im Auftrag des Wörheide Teams und \ndes Seniorenlandhauses mit ambulantem Pflegedienst Solveig Glänzel \n 
URL:https://www.seniorenlandhaus-moelbis.de/event/infoabend-fuer-angehoerige-von-demenzerkrankte/
LOCATION:Seniorenlandhaus Mölbis\, Mölbiser Hauptstraße 25\, 04571 Rötha OT Mölbis
END:VEVENT
END:VCALENDAR